BEGIN:VCALENDAR
VERSION:2.0
PRODID:-//Ellsworth Community College - ECPv6.15.20//NONSGML v1.0//EN
CALSCALE:GREGORIAN
METHOD:PUBLISH
X-WR-CALNAME:Ellsworth Community College
X-ORIGINAL-URL:https://ecc.iavalley.edu
X-WR-CALDESC:Events for Ellsworth Community College
REFRESH-INTERVAL;VALUE=DURATION:PT1H
X-Robots-Tag:noindex
X-PUBLISHED-TTL:PT1H
BEGIN:VTIMEZONE
TZID:UTC
BEGIN:STANDARD
TZOFFSETFROM:+0000
TZOFFSETTO:+0000
TZNAME:UTC
DTSTART:20250101T000000
END:STANDARD
END:VTIMEZONE
BEGIN:VEVENT
DTSTART;TZID=UTC:20260423T140000
DTEND;TZID=UTC:20260423T170000
DTSTAMP:20260423T073650
CREATED:20260420T093226Z
LAST-MODIFIED:20260420T093226Z
UID:10033891-1776952800-1776963600@ecc.iavalley.edu
SUMMARY:Black Hawk College\, Ellsworth Community College
DESCRIPTION:Softball on Apr 23\, 2026 at 2:00 PM: Black Hawk College\, Ellsworth Community College
URL:https://ecc.iavalley.edu/event/black-hawk-college-ellsworth-community-college/
CATEGORIES:softball
END:VEVENT
BEGIN:VEVENT
DTSTART;TZID=UTC:20260423T160000
DTEND;TZID=UTC:20260423T190000
DTSTAMP:20260423T073650
CREATED:20260420T093226Z
LAST-MODIFIED:20260420T093226Z
UID:10033892-1776960000-1776970800@ecc.iavalley.edu
SUMMARY:Black Hawk College\, Ellsworth Community College
DESCRIPTION:Softball on Apr 23\, 2026 at 4:00 PM: Black Hawk College\, Ellsworth Community College
URL:https://ecc.iavalley.edu/event/black-hawk-college-ellsworth-community-college-2/
CATEGORIES:softball
END:VEVENT
END:VCALENDAR